BEGIN:VCALENDAR
VERSION:2.0
PRODID:-//East Adams Rural Healthcare - ECPv6.15.20//NONSGML v1.0//EN
CALSCALE:GREGORIAN
METHOD:PUBLISH
X-WR-CALNAME:East Adams Rural Healthcare
X-ORIGINAL-URL:https://www.earh.org
X-WR-CALDESC:Events for East Adams Rural Healthcare
REFRESH-INTERVAL;VALUE=DURATION:PT1H
X-Robots-Tag:noindex
X-PUBLISHED-TTL:PT1H
BEGIN:VTIMEZONE
TZID:UTC
BEGIN:STANDARD
TZOFFSETFROM:+0000
TZOFFSETTO:+0000
TZNAME:UTC
DTSTART:20250101T000000
END:STANDARD
END:VTIMEZONE
BEGIN:VEVENT
DTSTART;TZID=UTC:20260121T150000
DTEND;TZID=UTC:20260121T160000
DTSTAMP:20260419T134436
CREATED:20260119T181104Z
LAST-MODIFIED:20260119T181126Z
UID:22990562-1769007600-1769011200@www.earh.org
SUMMARY:Special Board Meeting - Click for Details
DESCRIPTION:NOTICE IS HEREBY GIVEN that the meeting of the Board of Commissioners of Adams County Public Hospital District No. 2 will be holding a Special Board Meeting on Wednesday\, January 21st at 3:00 pm. The purpose of the meeting is to RCW 42.30.110(i) discuss with legal counsel. This will be an Executive Session only meeting. The meeting will be held at the East Adams Rural Healthcare conference room. 903 S Adams\, Ritzville\, WA 99169. \nPosted Time: 9:00 A.M \nDate: January 19\, 2026
URL:https://www.earh.org/event/special-board-meeting-click-for-details
END:VEVENT
END:VCALENDAR