BEGIN:VCALENDAR
VERSION:2.0
PRODID:-//East Adams Rural Healthcare - ECPv6.15.20//NONSGML v1.0//EN
CALSCALE:GREGORIAN
METHOD:PUBLISH
X-WR-CALNAME:East Adams Rural Healthcare
X-ORIGINAL-URL:https://www.earh.org
X-WR-CALDESC:Events for East Adams Rural Healthcare
REFRESH-INTERVAL;VALUE=DURATION:PT1H
X-Robots-Tag:noindex
X-PUBLISHED-TTL:PT1H
BEGIN:VTIMEZONE
TZID:UTC
BEGIN:STANDARD
TZOFFSETFROM:+0000
TZOFFSETTO:+0000
TZNAME:UTC
DTSTART:20240101T000000
END:STANDARD
END:VTIMEZONE
BEGIN:VEVENT
DTSTART;TZID=UTC:20250424T133000
DTEND;TZID=UTC:20250424T160000
DTSTAMP:20260425T181052
CREATED:20250405T144707Z
LAST-MODIFIED:20250405T144707Z
UID:22990032-1745501400-1745510400@www.earh.org
SUMMARY:Mobile Clinic – Lind City Park
DESCRIPTION:Mobile Clinic – Lind City Park
URL:https://www.earh.org/event/mobile-clinic-lind-city-park-2
LOCATION:Lind\, Town of Lind Park\, Lind\, 99341\, United States
END:VEVENT
END:VCALENDAR